Package: M3C Version: 1.22.0 Command: rm -rf M3C.buildbin-libdir && mkdir M3C.buildbin-libdir && /Users/biocbuild/BBS/utils/build-universal.sh M3C_1.22.0.tar.gz /Library/Frameworks/R.framework/Resources/bin/R M3C.buildbin-libdir StartedAt: 2023-10-16 09:38:50 -0400 (Mon, 16 Oct 2023) EndedAt: 2023-10-16 09:39:23 -0400 (Mon, 16 Oct 2023) EllapsedTime: 32.8 seconds RetCode: 0 Status: OK PackageFile: M3C_1.22.0.tgz PackageFileSize: 756.9 KiB