Package: LymphoSeq Version: 1.28.0 Command: /Library/Frameworks/R.framework/Resources/bin/R CMD INSTALL LymphoSeq StartedAt: 2023-10-15 15:31:06 -0400 (Sun, 15 Oct 2023) EndedAt: 2023-10-15 15:32:21 -0400 (Sun, 15 Oct 2023) EllapsedTime: 75.4 seconds RetCode: 0 Status: OK