Package: LymphoSeq Version: 1.28.0 Command: /Library/Frameworks/R.framework/Resources/bin/R CMD build --keep-empty-dirs --no-resave-data LymphoSeq StartedAt: 2023-10-15 19:11:47 -0400 (Sun, 15 Oct 2023) EndedAt: 2023-10-15 19:14:14 -0400 (Sun, 15 Oct 2023) EllapsedTime: 147.0 seconds RetCode: 0 Status: OK PackageFile: LymphoSeq_1.28.0.tar.gz PackageFileSize: 2.116 MiB