Package: LiquidAssociation Version: 1.54.0 Command: rm -rf LiquidAssociation.buildbin-libdir && mkdir LiquidAssociation.buildbin-libdir && F:\biocbuild\bbs-3.17-bioc\R\bin\R.exe CMD INSTALL --build --library=LiquidAssociation.buildbin-libdir LiquidAssociation_1.54.0.tar.gz StartedAt: 2023-10-16 09:00:29 -0400 (Mon, 16 Oct 2023) EndedAt: 2023-10-16 09:00:59 -0400 (Mon, 16 Oct 2023) EllapsedTime: 30.0 seconds RetCode: 0 Status: OK PackageFile: LiquidAssociation_1.54.0.zip PackageFileSize: 403.4 KiB