Package: LiquidAssociation Version: 1.54.0 Command: /home/biocbuild/bbs-3.17-bioc/R/bin/R CMD INSTALL LiquidAssociation StartedAt: 2023-10-15 15:16:48 -0400 (Sun, 15 Oct 2023) EndedAt: 2023-10-15 15:17:05 -0400 (Sun, 15 Oct 2023) EllapsedTime: 16.5 seconds RetCode: 0 Status: OK