Package: LiquidAssociation Version: 1.54.0 Command: /home/biocbuild/bbs-3.17-bioc/R/bin/R CMD check --install=check:LiquidAssociation.install-out.txt --library=/home/biocbuild/bbs-3.17-bioc/R/site-library --timings LiquidAssociation_1.54.0.tar.gz StartedAt: 2023-10-15 22:23:13 -0400 (Sun, 15 Oct 2023) EndedAt: 2023-10-15 22:25:15 -0400 (Sun, 15 Oct 2023) EllapsedTime: 121.6 seconds RetCode: 0 Status: OK CheckDir: LiquidAssociation.Rcheck Warnings: 0