Package: LiquidAssociation Version: 1.54.0 Command: /Library/Frameworks/R.framework/Resources/bin/R CMD check --install=check:LiquidAssociation.install-out.txt --library=/Library/Frameworks/R.framework/Resources/library --no-vignettes --timings LiquidAssociation_1.54.0.tar.gz StartedAt: 2023-10-16 03:14:59 -0400 (Mon, 16 Oct 2023) EndedAt: 2023-10-16 03:19:38 -0400 (Mon, 16 Oct 2023) EllapsedTime: 279.0 seconds RetCode: 0 Status: OK CheckDir: LiquidAssociation.Rcheck Warnings: 0