Package: LiquidAssociation Version: 1.54.0 Command: /Library/Frameworks/R.framework/Resources/bin/R CMD build --keep-empty-dirs --no-resave-data LiquidAssociation StartedAt: 2023-10-15 19:10:22 -0400 (Sun, 15 Oct 2023) EndedAt: 2023-10-15 19:11:41 -0400 (Sun, 15 Oct 2023) EllapsedTime: 78.8 seconds RetCode: 0 Status: OK PackageFile: LiquidAssociation_1.54.0.tar.gz PackageFileSize: 285.9 KiB