Package: LiquidAssociation Version: 1.54.0 Command: rm -rf LiquidAssociation.buildbin-libdir && mkdir LiquidAssociation.buildbin-libdir && /Users/biocbuild/BBS/utils/build-universal.sh LiquidAssociation_1.54.0.tar.gz /Library/Frameworks/R.framework/Resources/bin/R LiquidAssociation.buildbin-libdir StartedAt: 2023-10-16 09:38:00 -0400 (Mon, 16 Oct 2023) EndedAt: 2023-10-16 09:39:02 -0400 (Mon, 16 Oct 2023) EllapsedTime: 62.2 seconds RetCode: 0 Status: OK PackageFile: LiquidAssociation_1.54.0.tgz PackageFileSize: 509.6 KiB