Package: Linnorm Version: 2.24.1 Command: F:\biocbuild\bbs-3.17-bioc\R\bin\R.exe CMD INSTALL Linnorm StartedAt: 2023-10-15 16:01:13 -0400 (Sun, 15 Oct 2023) EndedAt: 2023-10-15 16:01:47 -0400 (Sun, 15 Oct 2023) EllapsedTime: 33.2 seconds RetCode: 0 Status: OK