Package: Linnorm Version: 2.24.1 Command: rm -rf Linnorm.buildbin-libdir && mkdir Linnorm.buildbin-libdir && F:\biocbuild\bbs-3.17-bioc\R\bin\R.exe CMD INSTALL --build --library=Linnorm.buildbin-libdir Linnorm_2.24.1.tar.gz StartedAt: 2023-10-16 09:00:22 -0400 (Mon, 16 Oct 2023) EndedAt: 2023-10-16 09:00:58 -0400 (Mon, 16 Oct 2023) EllapsedTime: 35.5 seconds RetCode: 0 Status: OK PackageFile: Linnorm_2.24.1.zip PackageFileSize: 4.618 MiB