Package: LinkHD Version: 1.14.0 Command: F:\biocbuild\bbs-3.17-bioc\R\bin\R.exe CMD check --no-multiarch --install=check:LinkHD.install-out.txt --library=F:\biocbuild\bbs-3.17-bioc\R\library --no-vignettes --timings LinkHD_1.14.0.tar.gz StartedAt: 2023-10-16 03:31:08 -0400 (Mon, 16 Oct 2023) EndedAt: 2023-10-16 03:34:14 -0400 (Mon, 16 Oct 2023) EllapsedTime: 185.9 seconds RetCode: 0 Status: OK CheckDir: LinkHD.Rcheck Warnings: 0