Package: LinkHD Version: 1.14.0 Command: chmod a+r LinkHD -R && F:\biocbuild\bbs-3.17-bioc\R\bin\R.exe CMD build --keep-empty-dirs --no-resave-data LinkHD StartedAt: 2023-10-15 20:05:45 -0400 (Sun, 15 Oct 2023) EndedAt: 2023-10-15 20:06:50 -0400 (Sun, 15 Oct 2023) EllapsedTime: 64.6 seconds RetCode: 0 Status: OK PackageFile: LinkHD_1.14.0.tar.gz PackageFileSize: 1.816 MiB