Package: LinkHD Version: 1.14.0 Command: rm -rf LinkHD.buildbin-libdir && mkdir LinkHD.buildbin-libdir && F:\biocbuild\bbs-3.17-bioc\R\bin\R.exe CMD INSTALL --build --library=LinkHD.buildbin-libdir LinkHD_1.14.0.tar.gz StartedAt: 2023-10-16 09:00:21 -0400 (Mon, 16 Oct 2023) EndedAt: 2023-10-16 09:00:55 -0400 (Mon, 16 Oct 2023) EllapsedTime: 34.5 seconds RetCode: 0 Status: OK PackageFile: LinkHD_1.14.0.zip PackageFileSize: 1.529 MiB