Package: LinkHD Version: 1.14.0 Command: /home/biocbuild/bbs-3.17-bioc/R/bin/R CMD build --keep-empty-dirs --no-resave-data LinkHD StartedAt: 2023-10-15 17:15:34 -0400 (Sun, 15 Oct 2023) EndedAt: 2023-10-15 17:16:31 -0400 (Sun, 15 Oct 2023) EllapsedTime: 57.1 seconds RetCode: 0 Status: OK PackageFile: LinkHD_1.14.0.tar.gz PackageFileSize: 2.205 MiB