Package: LineagePulse Version: 1.20.0 Command: F:\biocbuild\bbs-3.17-bioc\R\bin\R.exe CMD INSTALL LineagePulse StartedAt: 2023-10-15 16:17:48 -0400 (Sun, 15 Oct 2023) EndedAt: 2023-10-15 16:18:25 -0400 (Sun, 15 Oct 2023) EllapsedTime: 37.3 seconds RetCode: 0 Status: OK