Package: LineagePulse Version: 1.20.0 Command: F:\biocbuild\bbs-3.17-bioc\R\bin\R.exe CMD check --no-multiarch --install=check:LineagePulse.install-out.txt --library=F:\biocbuild\bbs-3.17-bioc\R\library --no-vignettes --timings LineagePulse_1.20.0.tar.gz StartedAt: 2023-07-07 04:02:17 -0400 (Fri, 07 Jul 2023) EndedAt: 2023-07-07 04:09:35 -0400 (Fri, 07 Jul 2023) EllapsedTime: 437.8 seconds RetCode: 0 Status: WARNINGS CheckDir: LineagePulse.Rcheck Warnings: 1