Package: LineagePulse Version: 1.20.0 Command: chmod a+r LineagePulse -R && F:\biocbuild\bbs-3.17-bioc\R\bin\R.exe CMD build --keep-empty-dirs --no-resave-data LineagePulse StartedAt: 2023-10-15 20:05:34 -0400 (Sun, 15 Oct 2023) EndedAt: 2023-10-15 20:06:41 -0400 (Sun, 15 Oct 2023) EllapsedTime: 67.0 seconds RetCode: 1 Status: ERROR PackageFile: None PackageFileSize: NA