Package: LineagePulse Version: 1.20.0 Command: /home/biocbuild/bbs-3.17-bioc/R/bin/R CMD INSTALL LineagePulse StartedAt: 2023-10-15 15:20:51 -0400 (Sun, 15 Oct 2023) EndedAt: 2023-10-15 15:21:18 -0400 (Sun, 15 Oct 2023) EllapsedTime: 26.8 seconds RetCode: 0 Status: OK