Package: LineagePulse Version: 1.20.0 Command: /home/biocbuild/bbs-3.17-bioc/R/bin/R CMD build --keep-empty-dirs --no-resave-data LineagePulse StartedAt: 2023-10-15 17:15:31 -0400 (Sun, 15 Oct 2023) EndedAt: 2023-10-15 17:16:24 -0400 (Sun, 15 Oct 2023) EllapsedTime: 52.4 seconds RetCode: 1 Status: ERROR PackageFile: None PackageFileSize: NA