Package: LineagePulse Version: 1.20.0 Command: /Library/Frameworks/R.framework/Resources/bin/R CMD build --keep-empty-dirs --no-resave-data LineagePulse StartedAt: 2023-10-15 19:09:30 -0400 (Sun, 15 Oct 2023) EndedAt: 2023-10-15 19:11:26 -0400 (Sun, 15 Oct 2023) EllapsedTime: 116.6 seconds RetCode: 1 Status: ERROR PackageFile: None PackageFileSize: NA