Package: LineagePulse Version: 1.20.0 Command: rm -rf LineagePulse.buildbin-libdir && mkdir LineagePulse.buildbin-libdir && /Users/biocbuild/BBS/utils/build-universal.sh LineagePulse_1.20.0.tar.gz /Library/Frameworks/R.framework/Resources/bin/R LineagePulse.buildbin-libdir StartedAt: 2023-07-07 09:36:34 -0400 (Fri, 07 Jul 2023) EndedAt: 2023-07-07 09:38:08 -0400 (Fri, 07 Jul 2023) EllapsedTime: 94.4 seconds RetCode: 0 Status: OK PackageFile: LineagePulse_1.20.0.tgz PackageFileSize: 752.2 KiB