Package: LinTInd Version: 1.4.0 Command: /home/biocbuild/bbs-3.17-bioc/R/bin/R CMD INSTALL LinTInd StartedAt: 2023-10-15 15:25:59 -0400 (Sun, 15 Oct 2023) EndedAt: 2023-10-15 15:26:15 -0400 (Sun, 15 Oct 2023) EllapsedTime: 16.5 seconds RetCode: 0 Status: OK