Package: LinTInd Version: 1.4.0 Command: /home/biocbuild/bbs-3.17-bioc/R/bin/R CMD check --install=check:LinTInd.install-out.txt --library=/home/biocbuild/bbs-3.17-bioc/R/site-library --timings LinTInd_1.4.0.tar.gz StartedAt: 2023-10-15 22:22:53 -0400 (Sun, 15 Oct 2023) EndedAt: 2023-10-15 22:25:22 -0400 (Sun, 15 Oct 2023) EllapsedTime: 148.8 seconds RetCode: 0 Status: OK CheckDir: LinTInd.Rcheck Warnings: 0