Package: LRBaseDbi Version: 2.10.0 Command: F:\biocbuild\bbs-3.17-bioc\R\bin\R.exe CMD check --no-multiarch --install=check:LRBaseDbi.install-out.txt --library=F:\biocbuild\bbs-3.17-bioc\R\library --no-vignettes --timings LRBaseDbi_2.10.0.tar.gz StartedAt: 2023-10-16 03:34:12 -0400 (Mon, 16 Oct 2023) EndedAt: 2023-10-16 03:35:52 -0400 (Mon, 16 Oct 2023) EllapsedTime: 100.4 seconds RetCode: 0 Status: OK CheckDir: LRBaseDbi.Rcheck Warnings: 0