Package: LRBaseDbi Version: 2.10.0 Command: chmod a+r LRBaseDbi -R && F:\biocbuild\bbs-3.17-bioc\R\bin\R.exe CMD build --keep-empty-dirs --no-resave-data LRBaseDbi StartedAt: 2023-10-15 20:07:18 -0400 (Sun, 15 Oct 2023) EndedAt: 2023-10-15 20:07:57 -0400 (Sun, 15 Oct 2023) EllapsedTime: 38.2 seconds RetCode: 0 Status: OK PackageFile: LRBaseDbi_2.10.0.tar.gz PackageFileSize: 146.8 KiB