Package: LRBaseDbi Version: 2.10.0 Command: /home/biocbuild/bbs-3.17-bioc/R/bin/R CMD INSTALL LRBaseDbi StartedAt: 2023-10-15 15:17:08 -0400 (Sun, 15 Oct 2023) EndedAt: 2023-10-15 15:17:21 -0400 (Sun, 15 Oct 2023) EllapsedTime: 12.4 seconds RetCode: 0 Status: OK