Package: LRBaseDbi Version: 2.10.0 Command: /home/biocbuild/bbs-3.17-bioc/R/bin/R CMD check --install=check:LRBaseDbi.install-out.txt --library=/home/biocbuild/bbs-3.17-bioc/R/site-library --timings LRBaseDbi_2.10.0.tar.gz StartedAt: 2023-10-15 22:24:49 -0400 (Sun, 15 Oct 2023) EndedAt: 2023-10-15 22:26:33 -0400 (Sun, 15 Oct 2023) EllapsedTime: 104.1 seconds RetCode: 0 Status: WARNINGS CheckDir: LRBaseDbi.Rcheck Warnings: 1