Package: LRBaseDbi Version: 2.10.0 Command: /Library/Frameworks/R.framework/Resources/bin/R CMD INSTALL LRBaseDbi StartedAt: 2023-10-15 15:22:31 -0400 (Sun, 15 Oct 2023) EndedAt: 2023-10-15 15:23:16 -0400 (Sun, 15 Oct 2023) EllapsedTime: 45.3 seconds RetCode: 0 Status: OK