Package: LRBaseDbi Version: 2.10.0 Command: rm -rf LRBaseDbi.buildbin-libdir && mkdir LRBaseDbi.buildbin-libdir && /Users/biocbuild/BBS/utils/build-universal.sh LRBaseDbi_2.10.0.tar.gz /Library/Frameworks/R.framework/Resources/bin/R LRBaseDbi.buildbin-libdir StartedAt: 2023-10-16 09:38:32 -0400 (Mon, 16 Oct 2023) EndedAt: 2023-10-16 09:39:20 -0400 (Mon, 16 Oct 2023) EllapsedTime: 48.3 seconds RetCode: 0 Status: OK PackageFile: LRBaseDbi_2.10.0.tgz PackageFileSize: 567.3 KiB