git_url: https://git.bioconductor.org/packages/LRBaseDbi git_branch: RELEASE_3_17 git_last_commit: c2adea8 git_last_commit_date: 2023-04-25 11:03:15 -0400 (Tue, 25 Apr 2023) Package: LRBaseDbi Version: 2.10.0 Maintainer: Koki Tsuyuzaki MaintainerEmail: k.t.the-answer at hotmail.co.jp