Package: LPEadj Version: 1.60.0 Command: /Library/Frameworks/R.framework/Resources/bin/R CMD build --keep-empty-dirs --no-resave-data LPEadj StartedAt: 2023-10-15 19:11:26 -0400 (Sun, 15 Oct 2023) EndedAt: 2023-10-15 19:11:45 -0400 (Sun, 15 Oct 2023) EllapsedTime: 19.3 seconds RetCode: 0 Status: OK PackageFile: LPEadj_1.60.0.tar.gz PackageFileSize: 1.522 MiB