Package: LOLA Version: 1.30.0 Command: F:\biocbuild\bbs-3.17-bioc\R\bin\R.exe CMD INSTALL LOLA StartedAt: 2023-10-15 15:55:36 -0400 (Sun, 15 Oct 2023) EndedAt: 2023-10-15 15:55:55 -0400 (Sun, 15 Oct 2023) EllapsedTime: 18.7 seconds RetCode: 0 Status: OK