Package: LOLA Version: 1.30.0 Command: chmod a+r LOLA -R && F:\biocbuild\bbs-3.17-bioc\R\bin\R.exe CMD build --keep-empty-dirs --no-resave-data LOLA StartedAt: 2023-10-15 20:06:56 -0400 (Sun, 15 Oct 2023) EndedAt: 2023-10-15 20:07:26 -0400 (Sun, 15 Oct 2023) EllapsedTime: 30.0 seconds RetCode: 0 Status: OK PackageFile: LOLA_1.30.0.tar.gz PackageFileSize: 1.11 MiB