Package: LOLA Version: 1.30.0 Command: rm -rf LOLA.buildbin-libdir && mkdir LOLA.buildbin-libdir && F:\biocbuild\bbs-3.17-bioc\R\bin\R.exe CMD INSTALL --build --library=LOLA.buildbin-libdir LOLA_1.30.0.tar.gz StartedAt: 2023-10-16 09:00:44 -0400 (Mon, 16 Oct 2023) EndedAt: 2023-10-16 09:01:06 -0400 (Mon, 16 Oct 2023) EllapsedTime: 21.3 seconds RetCode: 0 Status: OK PackageFile: LOLA_1.30.0.zip PackageFileSize: 1.197 MiB