Package: LOLA Version: 1.30.0 Command: /home/biocbuild/bbs-3.17-bioc/R/bin/R CMD INSTALL LOLA StartedAt: 2023-10-15 15:11:00 -0400 (Sun, 15 Oct 2023) EndedAt: 2023-10-15 15:11:11 -0400 (Sun, 15 Oct 2023) EllapsedTime: 11.2 seconds RetCode: 0 Status: OK