Package: LOLA Version: 1.30.0 Command: rm -rf LOLA.buildbin-libdir && mkdir LOLA.buildbin-libdir && /Users/biocbuild/BBS/utils/build-universal.sh LOLA_1.30.0.tar.gz /Library/Frameworks/R.framework/Resources/bin/R LOLA.buildbin-libdir StartedAt: 2023-10-16 09:38:14 -0400 (Mon, 16 Oct 2023) EndedAt: 2023-10-16 09:39:02 -0400 (Mon, 16 Oct 2023) EllapsedTime: 47.6 seconds RetCode: 0 Status: OK PackageFile: LOLA_1.30.0.tgz PackageFileSize: 1.183 MiB