Package: LOBSTAHS Version: 1.26.0 Command: F:\biocbuild\bbs-3.17-bioc\R\bin\R.exe CMD INSTALL LOBSTAHS StartedAt: 2023-10-15 16:46:56 -0400 (Sun, 15 Oct 2023) EndedAt: 2023-10-15 16:47:46 -0400 (Sun, 15 Oct 2023) EllapsedTime: 50.1 seconds RetCode: 0 Status: OK