Package: LOBSTAHS Version: 1.26.0 Command: /home/biocbuild/bbs-3.17-bioc/R/bin/R CMD INSTALL LOBSTAHS StartedAt: 2023-10-15 15:40:25 -0400 (Sun, 15 Oct 2023) EndedAt: 2023-10-15 15:41:03 -0400 (Sun, 15 Oct 2023) EllapsedTime: 38.0 seconds RetCode: 0 Status: OK