Package: LOBSTAHS Version: 1.26.0 Command: /Library/Frameworks/R.framework/Resources/bin/R CMD build --keep-empty-dirs --no-resave-data LOBSTAHS StartedAt: 2023-10-15 19:10:31 -0400 (Sun, 15 Oct 2023) EndedAt: 2023-10-15 19:12:35 -0400 (Sun, 15 Oct 2023) EllapsedTime: 124.5 seconds RetCode: 0 Status: OK PackageFile: LOBSTAHS_1.26.0.tar.gz PackageFileSize: 2.902 MiB