Package: LEA Version: 3.12.2 Command: F:\biocbuild\bbs-3.17-bioc\R\bin\R.exe CMD INSTALL LEA StartedAt: 2023-10-15 15:48:00 -0400 (Sun, 15 Oct 2023) EndedAt: 2023-10-15 15:48:46 -0400 (Sun, 15 Oct 2023) EllapsedTime: 46.0 seconds RetCode: 0 Status: OK