Package: LEA Version: 3.12.2 Command: F:\biocbuild\bbs-3.17-bioc\R\bin\R.exe CMD check --no-multiarch --install=check:LEA.install-out.txt --library=F:\biocbuild\bbs-3.17-bioc\R\library --no-vignettes --timings LEA_3.12.2.tar.gz StartedAt: 2023-10-16 03:29:28 -0400 (Mon, 16 Oct 2023) EndedAt: 2023-10-16 03:32:08 -0400 (Mon, 16 Oct 2023) EllapsedTime: 159.5 seconds RetCode: 0 Status: OK CheckDir: LEA.Rcheck Warnings: 0