Package: LEA Version: 3.12.2 Command: chmod a+r LEA -R && F:\biocbuild\bbs-3.17-bioc\R\bin\R.exe CMD build --keep-empty-dirs --no-resave-data LEA StartedAt: 2023-10-15 20:04:44 -0400 (Sun, 15 Oct 2023) EndedAt: 2023-10-15 20:07:12 -0400 (Sun, 15 Oct 2023) EllapsedTime: 148.2 seconds RetCode: 0 Status: OK PackageFile: LEA_3.12.2.tar.gz PackageFileSize: 742.5 KiB