Package: LEA Version: 3.12.2 Command: rm -rf LEA.buildbin-libdir && mkdir LEA.buildbin-libdir && F:\biocbuild\bbs-3.17-bioc\R\bin\R.exe CMD INSTALL --build --library=LEA.buildbin-libdir LEA_3.12.2.tar.gz StartedAt: 2023-10-16 09:00:07 -0400 (Mon, 16 Oct 2023) EndedAt: 2023-10-16 09:01:04 -0400 (Mon, 16 Oct 2023) EllapsedTime: 57.3 seconds RetCode: 0 Status: OK PackageFile: LEA_3.12.2.zip PackageFileSize: 952.5 KiB