Package: LEA Version: 3.12.2 Command: /home/biocbuild/bbs-3.17-bioc/R/bin/R CMD INSTALL LEA StartedAt: 2023-10-15 15:07:11 -0400 (Sun, 15 Oct 2023) EndedAt: 2023-10-15 15:07:29 -0400 (Sun, 15 Oct 2023) EllapsedTime: 17.3 seconds RetCode: 0 Status: OK