Package: LEA Version: 3.12.2 Command: /home/biocbuild/bbs-3.17-bioc/R/bin/R CMD check --install=check:LEA.install-out.txt --library=/home/biocbuild/bbs-3.17-bioc/R/site-library --timings LEA_3.12.2.tar.gz StartedAt: 2023-10-15 22:21:24 -0400 (Sun, 15 Oct 2023) EndedAt: 2023-10-15 22:24:49 -0400 (Sun, 15 Oct 2023) EllapsedTime: 204.7 seconds RetCode: 0 Status: OK CheckDir: LEA.Rcheck Warnings: 0