Package: LEA Version: 3.12.2 Command: /Library/Frameworks/R.framework/Resources/bin/R CMD INSTALL LEA StartedAt: 2023-10-15 15:04:04 -0400 (Sun, 15 Oct 2023) EndedAt: 2023-10-15 15:04:35 -0400 (Sun, 15 Oct 2023) EllapsedTime: 30.7 seconds RetCode: 0 Status: OK