Package: LEA Version: 3.12.2 Command: /Library/Frameworks/R.framework/Resources/bin/R CMD check --install=check:LEA.install-out.txt --library=/Library/Frameworks/R.framework/Resources/library --no-vignettes --timings LEA_3.12.2.tar.gz StartedAt: 2023-10-16 03:11:05 -0400 (Mon, 16 Oct 2023) EndedAt: 2023-10-16 03:16:11 -0400 (Mon, 16 Oct 2023) EllapsedTime: 305.8 seconds RetCode: 0 Status: OK CheckDir: LEA.Rcheck Warnings: 0