Package: LEA Version: 3.12.2 Command: /Library/Frameworks/R.framework/Resources/bin/R CMD build --keep-empty-dirs --no-resave-data LEA StartedAt: 2023-10-15 19:08:53 -0400 (Sun, 15 Oct 2023) EndedAt: 2023-10-15 19:12:21 -0400 (Sun, 15 Oct 2023) EllapsedTime: 208.8 seconds RetCode: 0 Status: OK PackageFile: LEA_3.12.2.tar.gz PackageFileSize: 739.8 KiB