Package: LEA Version: 3.12.2 Command: rm -rf LEA.buildbin-libdir && mkdir LEA.buildbin-libdir && /Users/biocbuild/BBS/utils/build-universal.sh LEA_3.12.2.tar.gz /Library/Frameworks/R.framework/Resources/bin/R LEA.buildbin-libdir StartedAt: 2023-10-16 09:37:31 -0400 (Mon, 16 Oct 2023) EndedAt: 2023-10-16 09:38:23 -0400 (Mon, 16 Oct 2023) EllapsedTime: 51.8 seconds RetCode: 0 Status: OK PackageFile: LEA_3.12.2.tgz PackageFileSize: 968.8 KiB